BEGIN:VCALENDAR
VERSION:2.0
PRODID:-//Squarespace Inc/Squarespace 6//v6//EN
BEGIN:VEVENT
UID:5c04d2f221c67c1f0b883d10@squarespace.com
DTSTAMP:20190104T002923Z
DTSTART:20181228T160000Z
DTEND:20190104T040000Z
SUMMARY:Taste of Tasmania
GEO:-42.88601;147.333538
LOCATION:Princes Wharf\, Hobart
END:VEVENT
END:VCALENDAR
