BEGIN:VCALENDAR
VERSION:2.0
PRODID:-//Squarespace Inc/Squarespace 6//v6//EN
BEGIN:VEVENT
UID:5c32aace0ebbe80a258510f1@squarespace.com
DTSTAMP:20190107T012845Z
DTSTART:20190118T213000Z
DTEND:20190119T020000Z
SUMMARY:Hobart Twilight Market
GEO:-42.911948;147.35647
LOCATION:Hobart Twilight Market\, Beach Road\, Sandy Bay\, TAS\, 7005\, Aus
 tralia
END:VEVENT
END:VCALENDAR
