BEGIN:VCALENDAR
VERSION:2.0
PRODID:-//Squarespace Inc/Squarespace 6//v6//EN
BEGIN:VEVENT
UID:5c050d350ebbe8610248e1a2@squarespace.com
DTSTAMP:20181203T110343Z
DTSTART:20181221T213000Z
DTEND:20181222T020000Z
SUMMARY:Hobart Twilight Market
GEO:-42.911948;147.35647
LOCATION:Hobart Twilight Market\, Beach Road\, Sandy Bay\, TAS\, 7005\, Aus
 tralia
END:VEVENT
END:VCALENDAR
