BEGIN:VCALENDAR
VERSION:2.0
PRODID:-//Squarespace Inc/Squarespace 6//v6//EN
BEGIN:VEVENT
UID:5c04ff1b352f53c27697aade@squarespace.com
DTSTAMP:20181206T023053Z
DTSTART:20181206T200000Z
DTEND:20181206T210000Z
SUMMARY:Tastings at Steve's Liquor\, Lindisfarne
GEO:-42.84657;147.354101
LOCATION:Steve's Liquor Lindisfarne\, 189A Derwent Avenue\, Lindisfarne\, T
 AS\, 7015\, Australia
END:VEVENT
END:VCALENDAR
