BEGIN:VCALENDAR
VERSION:2.0
PRODID:-//Squarespace Inc/Squarespace 6//v6//EN
BEGIN:VEVENT
UID:5c04cdf40e2e72d89776719b@squarespace.com
DTSTAMP:20181203T110400Z
DTSTART:20181208T160000Z
DTEND:20181208T220000Z
SUMMARY:Pure &amp\; Obscure Festival
GEO:-41.329918;146.529319
LOCATION:Tasmanian Food & Wine Conservatory\, 9 Conservatory Rd\, Sassafras
 \, TAS\, 7307\, Australia
END:VEVENT
END:VCALENDAR
