BEGIN:VCALENDAR
VERSION:2.0
PRODID:-//Squarespace Inc/Squarespace 6//v6//EN
BEGIN:VEVENT
UID:5b0baeeb6d2a73781c2ec333@squarespace.com
DTSTAMP:20180626T003919Z
DTSTART:20180615T200000Z
DTEND:20180625T020000Z
SUMMARY:Dark Mofo
END:VEVENT
END:VCALENDAR
