BEGIN:VCALENDAR
VERSION:2.0
PRODID:-//Squarespace Inc/Squarespace 6//v6//EN
BEGIN:VEVENT
UID:5b0bb0aa758d461b37f41d2e@squarespace.com
DTSTAMP:20180531T011606Z
DTSTART:20180815T080000Z
DTEND:20180815T090000Z
SUMMARY:Whisky Week (Tasmanian Spirits Showcase)
GEO:-42.881281;147.335438
LOCATION:The Henry Jones Atrium
END:VEVENT
END:VCALENDAR
