BEGIN:VCALENDAR
VERSION:2.0
PRODID:-//Squarespace Inc/Squarespace 6//v6//EN
BEGIN:VEVENT
UID:5b0bb879aa4a990332102ac4@squarespace.com
DTSTAMP:20180531T010921Z
DTSTART:20180813T223000Z
DTEND:20180814T003000Z
SUMMARY:Whisky Week (New Make Night)
GEO:-42.981392;147.324368
LOCATION:Robbie Browns
END:VEVENT
END:VCALENDAR
