BEGIN:VCALENDAR
VERSION:2.0
PRODID:-//Squarespace Inc/Squarespace 6//v6//EN
BEGIN:VEVENT
UID:5b0bb01570a6addca9d73df0@squarespace.com
DTSTAMP:20180603T223944Z
DTSTART:20180813T160000Z
DTEND:20180817T200000Z
SUMMARY:Whisky Week (Whisky Tours)
GEO:-42.708166;147.242947
LOCATION:7K Distillery\, 69 Brighton Road\, Brighton\, TAS\, 7030\, Austral
 ia
END:VEVENT
END:VCALENDAR
