BEGIN:VCALENDAR
VERSION:2.0
PRODID:-//Squarespace Inc/Squarespace 6//v6//EN
BEGIN:VEVENT
UID:5b0bac42aa4a9903320f448f@squarespace.com
DTSTAMP:20180531T003011Z
DTSTART:20180610T150000Z
DTEND:20180610T200000Z
SUMMARY:Hobart Twilight Market
GEO:-42.910778;147.356059
LOCATION:Hobart Twilight Market
END:VEVENT
END:VCALENDAR
