BEGIN:VCALENDAR
VERSION:2.0
PRODID:-//Squarespace Inc/Squarespace 6//v6//EN
BEGIN:VEVENT
UID:5b594155f950b7844b23d7e1@squarespace.com
DTSTAMP:20180726T033736Z
DTSTART:20180810T150000Z
DTEND:20180810T200000Z
SUMMARY:FREE TASTING
GEO:-41.42755;147.149242
LOCATION:Steves Liquour Launceston
END:VEVENT
END:VCALENDAR
