BEGIN:VCALENDAR
VERSION:2.0
PRODID:-//Squarespace Inc/Squarespace 6//v6//EN
BEGIN:VEVENT
UID:5b0bb7f42b6a288855a7f483@squarespace.com
DTSTAMP:20180531T010429Z
DTSTART:20180818T223000Z
DTEND:20180819T003000Z
SUMMARY:Whisky Week ( Saturday Night Whisky Party)
GEO:-42.882109;147.336217
LOCATION:story bar hobart
END:VEVENT
END:VCALENDAR
