BEGIN:VCALENDAR
VERSION:2.0
PRODID:-//Squarespace Inc/Squarespace 6//v6//EN
BEGIN:VEVENT
UID:5c590a42ec212d81d6b7b7f8@squarespace.com
DTSTAMP:20190205T040011Z
DTSTART:20190223T133000Z
DTEND:20190223T200000Z
SUMMARY:Salamanca Market
GEO:-42.88669;147.332781
LOCATION:Salamanca Market\, Salamanca Place\, Hobart\, TAS\, 7000\, Austral
 ia
END:VEVENT
END:VCALENDAR
