BEGIN:VCALENDAR
VERSION:2.0
PRODID:-//Squarespace Inc/Squarespace 6//v6//EN
BEGIN:VEVENT
UID:5c5909ce9b747a0202a221e2@squarespace.com
DTSTAMP:20190205T035954Z
DTSTART:20190302T133000Z
DTEND:20190302T200000Z
SUMMARY:Salamanca Market
GEO:-42.88669;147.332781
LOCATION:Salamanca Market\, Salamanca Place\, Hobart\, TAS\, 7000\, Austral
 ia
END:VEVENT
END:VCALENDAR
