BEGIN:VCALENDAR
VERSION:2.0
PRODID:-//Squarespace Inc/Squarespace 6//v6//EN
BEGIN:VEVENT
UID:5c59096715fcc0470f55d1ad@squarespace.com
DTSTAMP:20190205T035758Z
DTSTART:20190216T133000Z
DTEND:20190216T200000Z
SUMMARY:Salamanca Market
GEO:-42.88669;147.332781
LOCATION:Salamanca Market\, Salamanca Place\, Hobart\, TAS\, 7000\, Austral
 ia
END:VEVENT
END:VCALENDAR
