BEGIN:VCALENDAR
VERSION:2.0
PRODID:-//Squarespace Inc/Squarespace 6//v6//EN
BEGIN:VEVENT
UID:5c32ad51b8a0455ef9d355ec@squarespace.com
DTSTAMP:20190205T035425Z
DTSTART:20190209T133000Z
DTEND:20190209T200000Z
SUMMARY:Salamanca Market
GEO:-42.88669;147.332781
LOCATION:Salamanca Market\, Salamanca Place\, Hobart\, TAS\, 7000\, Austral
 ia
END:VEVENT
END:VCALENDAR
