BEGIN:VCALENDAR
VERSION:2.0
PRODID:-//Squarespace Inc/Squarespace 6//v6//EN
BEGIN:VEVENT
UID:5c32ad3c40ec9a8d36d83e3f@squarespace.com
DTSTAMP:20190107T013712Z
DTSTART:20190202T133000Z
DTEND:20190202T200000Z
SUMMARY:Salamanca Market
GEO:-42.88669;147.332781
LOCATION:Salamanca Market\, Salamanca Place\, Hobart\, TAS\, 7000\, Austral
 ia
END:VEVENT
END:VCALENDAR
