BEGIN:VCALENDAR
VERSION:2.0
PRODID:-//Squarespace Inc/Squarespace 6//v6//EN
BEGIN:VEVENT
UID:5d3e6d50a5e3b40001e85257@squarespace.com
DTSTAMP:20190729T045836Z
DTSTART:20190823T130000Z
DTEND:20190825T210000Z
SUMMARY:Good Food and Wine Show - Perth
GEO:-31.956944;115.853611
LOCATION:21 Mounts Bay Road\, Perth\, WA\, 6000\, Australia
END:VEVENT
END:VCALENDAR
