BEGIN:VCALENDAR
VERSION:2.0
PRODID:-//Squarespace Inc/Squarespace 6//v6//EN
BEGIN:VEVENT
UID:5b593ee30e2e72dd68e44510@squarespace.com
DTSTAMP:20180726T033436Z
DTSTART:20180808T220000Z
DTEND:20180808T230000Z
SUMMARY:Hop\, Vine and Still
GEO:-42.881594;147.323339
LOCATION:HOP VINE AND STILL
END:VEVENT
END:VCALENDAR
